Workbook

Sheet Техобслуживание
O1: нормо-час | P1: =[1]Лист1!$A$2 -> 4950
C2: 15000 | D2: 30000 | E2: 45000 | F2: 60000 | G2: 75000 | H2: 90000 | I2: 105000 | J2: 120000 | Z2: Работы | AA2: Сервис по замене масла | AB2: 1 | AC2: н.ч. | AD2: =AB2*P1 -> 4950 | AI2: Общие запчасти | AJ2: Моторное масло | AK2: GAU052195M2 | AL2: 7 | AM2: л | AN2: =[2]Запчасти_и_цены_NEW!$C$79 -> 1500 | AO2: =AN2*AL2 -> 10500
A3: 3.0 TDI | C3: =T4+Y1+AD2+AD4+AO2+AO3+AO4+AO5+AO6+AO7 -> 25229 | D3: =T4+T5+T6+Y1+AD3+AD4+AD5+AH5+AD6+AO2+AO3+AO4+AO5+AO6+AO7+AO8+AO9 -> 50482 | E3: =T4+Y1+AD2+AD4+AO2+AO3+AO4+AO5+AO6+AO7 -> 25229 | F3: =T4+T5+T6+Y1+AD3+AD4+AD5+AH5+AD6+AO2+AO3+AO4+AO5+AO6+AO7+AO8+AO9 -> 50482 | G3: =T4+Y1+AD2+AD4+AO2+AO3+AO4+AO5+AO6+AO7 -> 25229 | H3: =T4+T5+T6+Y1+AD3+AD4+AD5+AH5+AD6+AO2+AO3+AO4+AO5+AO6+AO7+AO8+AO9 -> 50482 | I3: =T4+Y1+AD2+AD4+AO2+AO3+AO4+AO5+AO6+AO7 -> 25229 | J3: =T4+T5+T6+Y1+AD3+AD4+AD5+AH5+AD6+AO2+AO3+AO4+AO5+AO6+AO7+AO8+AO9 -> 50482 | AA3: Инспекционный сервис | AB3: 1.8 | AC3: н.ч. | AD3: =AB3*P1 -> 8910 | AJ3: Масляный фильтр | AK3: 059198405b | AL3: 1 | AM3: шт | AO3: =[2]Запчасти_и_цены_NEW!$C$444 -> 1704
A4: Салонный фильтр: заменить | C4: да | D4: да | E4: да | F4: да | G4: да | H4: да | I4: да | J4: да | N4: Запчасти | O4: фильтр салонный | P4: 4m0819439a | Q4: 1 | R4: шт | T4: =[2]Запчасти_и_цены_NEW!$C$434 -> 6239 | AA4: замена фильтра салона | AB4: 0.1 | AC4: н.ч. | AD4: =AB4*P1 -> 495 | AJ4: пробка резьбовая | AK4: N 0160276 | AL4: 1 | AM4: шт | AO4: =[2]Запчасти_и_цены_NEW!$C$315 -> 278
A5: Топливный фильтр. Заменить | C5: --- | D5: да | E5: --- | F5: да | G5: --- | H5: да | I5: --- | J5: да | O5: топливный фильтр | P5: 4m0127434e | Q5: 1 | R5: шт | T5: =[2]Запчасти_и_цены_NEW!$C$435 -> 10389 | U5: Уплотнит кольцо | V5: 4m0127113a | W5: 1 | X5: шт | Y5: =[2]Запчасти_и_цены_NEW!$C$437 -> 1007 | AA5: Топливный фильтр снять и установить | AB5: 0.4 | AC5: н.ч. | AD5: =AB5*P1 -> 1980 | AE5: Прокачка топл. Системы | AF5: 0.1 | AG5: н.ч. | AH5: =AF5*P1 -> 495 | AJ5: уплотнительное кольцо | AK5: N 0138157 | AL5: 1 | AM5: шт | AO5: =[2]Запчасти_и_цены_NEW!$C$316 -> 223
A6: Воздушный фильтр: очистить корпус, заменить фильтрующий... | C6: --- | D6: да | E6: --- | F6: да | G6: --- | H6: да | I6: --- | J6: да | O6: фильтр воздушный | P6: 4m0133843c | Q6: 1 | R6: шт | T6: =[2]Запчасти_и_цены_NEW!$C$436 -> 5362 | AA6: воздушный фильтр замена | AB6: 0.1 | AC6: н.ч. | AD6: =AB6*P1 -> 495 | AJ6: Очиститель R510 | AK6: 6117 0914 | AL6: 1 | AM6: шт | AO6: =[2]Запчасти_и_цены_NEW!$C$3 -> 290
AJ7: КРМСТО | AK7: --- | AL7: 1 | AM7: шт | AO7: =[2]Запчасти_и_цены_NEW!$C$4 -> 550
AJ8: Смазка универсальная | AK8: G 000115A2 | AL8: 1 | AM8: шт | AO8: =[2]Запчасти_и_цены_NEW!$C$16 -> 1340
AJ9: Спрей для смазки личинок зам | AK9: G 052778A2 | AL9: 1 | AM9: шт | AO9: =[2]Запчасти_и_цены_NEW!$C$17 -> 1232
D13: =T13+T14+T15+AD14 -> 5431 | F13: =T13+T14+T15+AD14 -> 5431 | H13: =T13+T14+T15+AD14 -> 5431 | J13: =T13+T14+T15+AD14 -> 5431 | N13: Запчасти | O13: Пластичная смазка | P13: G 060751A2 | Q13: 0.3 | R13: шт | S13: =[2]Запчасти_и_цены_NEW!$C$377 -> 4900 | T13: =S13*Q13 -> 1470 | Z13: Работы
A14: Люк панорамной крыши: очистить и смазать | C14: --- | D14: да | E14: --- | F14: да | G14: --- | H14: да | I14: --- | J14: да | O14: Раствор моечный | P14: D 00940104 | Q14: 0.2 | R14: шт | S14: =[2]Запчасти_и_цены_NEW!$C$378 -> 1982 | T14: =S14*Q14 -> 396.4 | AA14: Сдвижной люк очистить | AB14: 0.5 | AC14: н.ч. | AD14: =AB14*P1 -> 2475
O15: Спец. Пластичная смазка | P15: G 052141A2 | Q15: 0.3 | R15: шт | S15: =[2]Запчасти_и_цены_NEW!$C$379 -> 3632 | T15: =S15*Q15 -> 1089.6
C17: 15000 | D17: 30000 | E17: 45000 | F17: 60000 | G17: 75000 | H17: 90000 | I17: 105000 | J17: 120000 | Z17: Работы | AA17: Сервис по замене масла | AB17: 0.9 | AC17: н.ч. | AD17: =AB17*P1 -> 4455 | AI17: Общие запчасти | AJ17: Моторное масло CASTROL 0W30 | AK17: 4673300087 | AL17: 6.8 | AM17: л | AN17: =[2]Запчасти_и_цены_NEW!$C$2 -> 1000 | AO17: =AN17*AL17 -> 6800
A18: 3.0 TFSI | C18: =T19+Y1+AD17+AD19+AO17+AO18+AO19+AO20+AO21+AO22 -> 20528 | D18: =T19+T21+Y1+AD18+AD19+AD21+AO17+AO18+AO19+AO20+AO21+AO22+AO23+AO24 -> 32917 | E18: =T19+Y1+AD17+AD19+AO17+AO18+AO19+AO20+AO21+AO22 -> 20528 | F18: =T19+T20+T21+Y1+AD18+AD19+AD20+AD21+AO17+AO18+AO19+AO20+AO21+AO22+AO23+AO24 -> 46042 | G18: =T19+Y1+AD17+AD19+AO17+AO18+AO19+AO20+AO21+AO22 -> 20528 | H18: =T19+T21+T22+Y1+AD18+AD19+AD21+AD22+AO17+AO18+AO19+AO20+AO21+AO22+AO23+AO24 -> 38435 | I18: =T19+Y1+AD17+AD19+AO17+AO18+AO19+AO20+AO21+AO22 -> 20528 | J18: =T19+T20+T21+Y1+AD18+AD19+AD20+AD21+AO17+AO18+AO19+AO20+AO21+AO22+AO23+AO24 -> 46042 | AA18: Инспекционный сервис | AB18: 1.7 | AC18: н.ч. | AD18: =AB18*P1 -> 8415 | AJ18: Масляный фильтр | AK18: 06e115562b | AL18: 1 | AM18: шт | AO18: =[2]Запчасти_и_цены_NEW!$C$445 -> 1226
A19: Салонный фильтр: заменить | C19: да | D19: да | E19: да | F19: да | G19: да | H19: да | I19: да | J19: да | N19: Запчасти | O19: фильтр салонный | P19: 4m0819439a | Q19: 1 | R19: шт | T19: =[2]Запчасти_и_цены_NEW!$C$438 -> 6239 | AA19: замена фильтра салона | AB19: 0.1 | AC19: н.ч. | AD19: =AB19*P1 -> 495 | AJ19: пробка резьбовая | AK19: n 91167901 | AL19: 1 | AM19: шт | AO19: =[2]Запчасти_и_цены_NEW!$C$446 -> 250
A20: Свечи зажигания: заменить | C20: --- | D20: --- | E20: --- | F20: да | G20: --- | H20: --- | I20: --- | J20: да | O20: Свеча зажигания | P20: 101905611g | Q20: 6 | R20: шт | S20: =[2]Запчасти_и_цены_NEW!$C$439 -> 1775 | T20: =S20*Q20 -> 10650 | AA20: Свеча зажигания снять и установить | AB20: 0.5 | AC20: н.ч. | AD20: =AB20*P1 -> 2475 | AJ20: уплотнительное кольцо | AK20: N 0138157 | AL20: 1 | AM20: шт | AO20: =[2]Запчасти_и_цены_NEW!$C$316 -> 223
A21: Воздушный фильтр: очистить корпус, заменить фильтрующий... | C21: --- | D21: да | E21: --- | F21: да | G21: --- | H21: да | I21: --- | J21: да | O21: фильтр воздушный | P21: 4m0133843c | Q21: 1 | R21: шт | T21: =[2]Запчасти_и_цены_NEW!$C$440 -> 5362 | AA21: воздушный фильтр замена | AB21: 0.1 | AC21: н.ч. | AD21: =AB21*P1 -> 495 | AJ21: Очиститель R510 | AK21: 6117 0914 | AL21: 1 | AM21: шт | AO21: =[2]Запчасти_и_цены_NEW!$C$3 -> 290
A22: Поликлиновой ремень модуля компрессора: заменить | C22: --- | D22: --- | E22: --- | F22: --- | G22: --- | H22: да | I22: --- | J22: --- | O22: Поликлиновый ремень Воздушный компрессор | P22: 06e903137ab | Q22: 1 | R22: шт | T22: =[2]Запчасти_и_цены_NEW!$C$441 -> 3043 | U22: натяжитель ремня | V22: 06e903133ac | W22: 1 | X22: шт | Y22: =[2]Запчасти_и_цены_NEW!$C$442 -> 6778 | AA22: Поликлиновой ремень привода нагнетателя снять и установить | AB22: 0.5 | AC22: н.ч. | AD22: =AB22*P1 -> 2475 | AJ22: КРМСТО | AK22: --- | AL22: 1 | AM22: шт | AO22: =[2]Запчасти_и_цены_NEW!$C$4 -> 550
U23: ролик обводной | V23: 06e903341h | W23: 1 | X23: шт | Y23: =[2]Запчасти_и_цены_NEW!$C$443 -> 5390 | AJ23: Смазка универсальная | AK23: G 000115A2 | AL23: 1 | AM23: шт | AO23: =[2]Запчасти_и_цены_NEW!$C$16 -> 1340
AJ24: Спрей для смазки личинок зам | AK24: G 052778A2 | AL24: 1 | AM24: шт | AO24: =[2]Запчасти_и_цены_NEW!$C$17 -> 1232

Sheet Замена тормозных механизмов
C5: Замена тормозных механизмов | E5: колодки | G5: колодки/диски
A6: 3,0 TDI / 3,0 TFSI | C6: Передние | E6: =G14+G16+G20+G26+G27 -> 31544 | G6: =G15+G16+G20+G26+G27+G30+G32+G33 -> 72454
C7: Задние | E7: =G17+G19+G20+G28+G29 -> 34282 | G7: =G18+G19+G20+G28+G29+G31+G34+G35 -> 72138
C8: Все | E8: =E6+E7 -> 65826 | G8: =G7+G6 -> 144592
A13: Работы | C13: Наименование | D13: Норма времени, н/ч | E13: Стоимость нормочаса, руб. | G13: Стоимость работ, руб
B14: Передние | C14: передние тормозные колодки заменить | D14: 0.5 | E14: =[1]Лист1!$D$2 -> 4950 | G14: =E14*D14 -> 2475
C15: Тормозной диск передний заменить с колодками | D15: 0.9 | G15: =E14*D15 -> 4455
C16: 2 колеса снять/установить | D16: 0.2 | G16: =E14*D16 -> 990
B17: Задние | C17: заменить задние тормозные колодки | D17: 0.7 | G17: =E14*D17 -> 3465
C18: Тормозной диск задний заменить, с колодками | D18: 1.3 | G18: =E14*D18 -> 6435
C19: 2 колеса снять/установить | D19: 0.2 | G19: =E14*D19 -> 990
C20: Дополнительная чистка | D20: 0.3 | G20: =E14*D20 -> 1485 | H20: --- | I20: Предотвращает, возможные, посторонние шумы и подклинивание элементов тормозной системы
A25: Запчасти | C25: Вид | D25: Наименование/кат. номер | E25: Количество, л(шт) | F25: Стоимость единицы наименования | G25: Стоимость запчастей, руб.
B26: 3,0 TDI / 3,0 TFSI | C26: комплект тормозных накладок | D26: 7L0698151P | E26: 1 | G26: =[2]Запчасти_и_цены_NEW!$C$342 -> 20928
C27: Датчик износа ТК | D27: 7L0907637 | E27: 2 | F27: =[2]Запчасти_и_цены_NEW!$C$343 -> 2833 | G27: =F27*E27 -> 5666
C28: комплект тормозных накладок зад. | D28: 7L0698451F | E28: 1 | G28: =[2]Запчасти_и_цены_NEW!$C$344 -> 22676
C29: Датчик износа ТК зад | D29: 7L5907637B | E29: 2 | F29: =[2]Запчасти_и_цены_NEW!$C$345 -> 2833 | G29: =F29*E29 -> 5666
C30: Диски тормозные передние | D30: 7L8615301 | E30: 2 | F30: =[2]Запчасти_и_цены_NEW!$C$346 -> 18436 | G30: =F30*E30 -> 36872
C31: Диски тормозные задние | D31: 7L8615601E | E31: 2 | F31: =[2]Запчасти_и_цены_NEW!$C$347 -> 16414 | G31: =F31*E31 -> 32828
C32: Болт (Kombi) | D32: N 90685403 | E32: 4 | F32: =[2]Запчасти_и_цены_NEW!$C$348 -> 417 | G32: =F32*E32 -> 1668 | H32: пер
C33: Винт с потайной головкой | D33: N 91028202 | E33: 2 | F33: =[2]Запчасти_и_цены_NEW!$C$349 -> 195 | G33: =F33*E33 -> 390 | H33: пер
C34: Винт с потайной головкой | D34: N 91028202 | E34: 2 | F34: =[2]Запчасти_и_цены_NEW!$C$350 -> 195 | G34: =F34*E34 -> 390 | H34: зад
C35: Винт с потайной головкой | D35: N 10555602 | E35: 4 | F35: =[2]Запчасти_и_цены_NEW!$C$351 -> 417 | G35: =F35*E35 -> 1668 | H35: зад
B36: 6,0 TDI | C36: комплект тормозных накладок | D36: 4L0698151B | E36: 1 | G36: =[2]Запчасти_и_цены_NEW!$C$359 -> 86501
C37: комплект тормозных накладок зад. | D37: 4L0698451C | E37: 1 | G37: =[2]Запчасти_и_цены_NEW!$C$360 -> 61735
C38: Датчик износа ТК зад | D38: 4L0615437A | E38: 2 | F38: =[2]Запчасти_и_цены_NEW!$C$361 -> 3408 | G38: =F38*E38 -> 6816
C39: Винт с потайной головкой | D39: N 91028202 | E39: 2 | F39: =[2]Запчасти_и_цены_NEW!$C$362 -> 195 | G39: =F39*E39 -> 390 | H39: пер
C40: Болт (Kombi) | D40: N 90685403 | E40: 4 | F40: =[2]Запчасти_и_цены_NEW!$C$363 -> 417 | G40: =F40*E40 -> 1668 | H40: пер
C41: винт с потайной головкой | D41: N 91028202 | E41: 2 | F41: =[2]Запчасти_и_цены_NEW!$C$364 -> 195 | G41: =F41*E41 -> 390 | H41: зад
C42: Болт с фиксирующими рубчиками | D42: N 10555602 | E42: 4 | F42: =[2]Запчасти_и_цены_NEW!$C$365 -> 417 | G42: =F42*E42 -> 1668 | H42: зад

Sheet Шиномонтаж
A5: Q7 | B5: Шиномонтаж | F5: =F20+F25 -> 10107.3
A16: Работы | B16: Комплектация | C16: Норма времени, н/ч | D16: Стоимость нормочаса, руб. | F16: Стоимость работ, руб
B17: колесо очистить | C17: 0.6 | D17: =[1]Лист1!$D$2 -> 4950 | F17: =D17*C17 -> 2970
B18: колеса снять/установить | C18: 0.4 | F18: =D17*C18 -> 1980
B19: шины заменить | C19: 1 | F19: =D17*C19 -> 4950
B20: Итого | C20: =C19+C18+C17 -> 2 | F20: =F19+F18+F17 -> 9900
A24: Запчасти | B24: Вид | C24: Наименование/кат. номер | D24: Количество, л(шт) | E24: Стоимость единицы наименования | F24: Стоимость запчастей, руб.
B25: Грузик балансировочный самоклеящийся, пластина 60г | C25: K072(0062) | D25: 6 | E25: 34.55 | F25: =E25*D25 -> 207.3
